BEGIN:VCALENDAR
VERSION:2.0
PRODID:-//The Rust Foundation - ECPv6.15.17.1//NONSGML v1.0//EN
CALSCALE:GREGORIAN
METHOD:PUBLISH
X-ORIGINAL-URL:https://rustfoundation.org
X-WR-CALDESC:Events for The Rust Foundation
REFRESH-INTERVAL;VALUE=DURATION:PT1H
X-Robots-Tag:noindex
X-PUBLISHED-TTL:PT1H
BEGIN:VTIMEZONE
TZID:America/Los_Angeles
BEGIN:DAYLIGHT
TZOFFSETFROM:-0800
TZOFFSETTO:-0700
TZNAME:PDT
DTSTART:20240310T100000
END:DAYLIGHT
BEGIN:STANDARD
TZOFFSETFROM:-0700
TZOFFSETTO:-0800
TZNAME:PST
DTSTART:20241103T090000
END:STANDARD
BEGIN:DAYLIGHT
TZOFFSETFROM:-0800
TZOFFSETTO:-0700
TZNAME:PDT
DTSTART:20250309T100000
END:DAYLIGHT
BEGIN:STANDARD
TZOFFSETFROM:-0700
TZOFFSETTO:-0800
TZNAME:PST
DTSTART:20251102T090000
END:STANDARD
BEGIN:DAYLIGHT
TZOFFSETFROM:-0800
TZOFFSETTO:-0700
TZNAME:PDT
DTSTART:20260308T100000
END:DAYLIGHT
BEGIN:STANDARD
TZOFFSETFROM:-0700
TZOFFSETTO:-0800
TZNAME:PST
DTSTART:20261101T090000
END:STANDARD
BEGIN:DAYLIGHT
TZOFFSETFROM:-0800
TZOFFSETTO:-0700
TZNAME:PDT
DTSTART:20270314T100000
END:DAYLIGHT
BEGIN:STANDARD
TZOFFSETFROM:-0700
TZOFFSETTO:-0800
TZNAME:PST
DTSTART:20271107T090000
END:STANDARD
END:VTIMEZONE
BEGIN:VTIMEZONE
TZID:UTC
BEGIN:STANDARD
TZOFFSETFROM:+0000
TZOFFSETTO:+0000
TZNAME:UTC
DTSTART:20230101T000000
END:STANDARD
END:VTIMEZONE
BEGIN:VEVENT
DTSTART;VALUE=DATE:20260302
DTEND;VALUE=DATE:20260305
DTSTAMP:20260425T154106
CREATED:20260227T203045Z
LAST-MODIFIED:20260227T203045Z
UID:83416-1772409600-1772668799@rustfoundation.org
SUMMARY:Talent Arena (MWC Barcelona 2026)
DESCRIPTION:The Rust Foundation will participate in Talent Arena at MWC Barcelona with programming that spans strategic infrastructure leadership and hands-on engineering. \nOn the XPro Stage\, Executive Director & CEO Dr. Rebecca Rumbul will present “Building the Future in Rust\,” examining why Rust is evolving from a developer preference into a strategic infrastructure choice across safety-critical systems\, AI infrastructure\, telecom platforms\, aerospace\, automotive\, and embedded environments. The session addresses resilience\, security\, performance\, and long-term technology investment in global digital infrastructure. \nThe Foundation will also host a series of in-depth technical workshops led by Lawrence Freeman\, Founder of Fledgio and a Rust Foundation Silver Member. These sessions include advanced async and trait patterns in production systems\, building intelligent agents using Rust and open-source tooling\, and a hands-on exploration of AI quantization\, numeric precision\, and inference performance. \nThese workshops mark the launch of Rust Foundation x Credly Workshop Completion Badges\, providing participants with publicly verifiable recognition for demonstrated Rust expertise. \nJoin us in Barcelona to explore where Rust fits in the next generation of digital infrastructure.
URL:https://rustfoundation.org/event/talent-arena-mwc-barcelona-2026/
LOCATION:Barcelona\, Spain
CATEGORIES:Attending,Hosted Events,Speaking
ATTACH;FMTTYPE=image/jpeg:https://rustfoundation.org/wp-content/uploads/2026/02/TALENTARENA26_W.jpg
END:VEVENT
BEGIN:VEVENT
DTSTART;TZID=America/Los_Angeles:20251208T183000
DTEND;TZID=America/Los_Angeles:20251208T203000
DTSTAMP:20260425T154106
CREATED:20251119T180557Z
LAST-MODIFIED:20251119T180916Z
UID:70302-1765218600-1765225800@rustfoundation.org
SUMMARY:Rust Global: Tokyo
DESCRIPTION:Join the Rust Foundation at Rust Global: Tokyo for an evening of conversations about how the Rust programming language is being used in production around the world. Expect insightful talks from professional teams invested in Rust\, inspiring Rust adoption stories\, and valuable networking opportunities with other open source leaders in Tokyo! \nThis event is taking place as a co-located event with Open Source Summit Japan\, but if you aren’t able to join the full conference\, we’d still love to have you at Rust Global. Just register using the link on this listing. Pre-registration is required. \n\n\nNot attending Open Source Summit? Register for Rust Global: Tokyo separately using the button below.
URL:https://rustfoundation.org/event/rust-global-tokyo/
LOCATION:Quebec
CATEGORIES:Hosted Events
ATTACH;FMTTYPE=image/png:https://rustfoundation.org/wp-content/uploads/2025/11/rust2025v2.png
ORGANIZER;CN="The Rust Foundation":MAILTO:contact@rustfoundation.org
END:VEVENT
BEGIN:VEVENT
DTSTART;VALUE=DATE:20250902
DTEND;VALUE=DATE:20250906
DTSTAMP:20260425T154106
CREATED:20240924T020021Z
LAST-MODIFIED:20250715T155051Z
UID:1696-1756771200-1757116799@rustfoundation.org
SUMMARY:RustConf 2025
DESCRIPTION:RustConf is taking place in beautiful Seattle\, Washington (and online in 2025! \n  \n>> Register here \n>> Browse the program \n>> Learn more about sponsorship
URL:https://rustfoundation.org/event/rustconf-2025/
LOCATION:Hyatt Regency\, Seattle\, WA\, 808 Howell St\, Seattle\, Washington\, 98101\, United States
CATEGORIES:Hosted Events
ATTACH;FMTTYPE=image/png:https://rustfoundation.org/wp-content/uploads/2024/09/Twitter-Banner.png
ORGANIZER;CN="The Rust Foundation":MAILTO:contact@rustfoundation.org
END:VEVENT
BEGIN:VEVENT
DTSTART;VALUE=DATE:20250221
DTEND;VALUE=DATE:20250222
DTSTAMP:20260425T154106
CREATED:20250118T025147Z
LAST-MODIFIED:20250118T025147Z
UID:2492-1740096000-1740182399@rustfoundation.org
SUMMARY:Rust Global: London 2025
DESCRIPTION:The Rust Foundation is bringing back its Rust Global event series in 2025! First stop: London. \nAttendees of Rust Nation UK are encouraged to register for this one-day event dedicated to discussing the use of Rust in global leadership settings. \nLike our most recent event in Montreal alongside RustConf 2024\, Rust Global: London will seek to unite Rust enthusiasts\, enterprise adopters\, open source business leaders\, and global decision-makers with inspiring talks and networking opportunities! \n  \nRust Global: London will be hosted at the offices of TrueLayer limited. The Rust Foundation is grateful to their team for generously supporting this event. TrueLayer is an open banking payments network\, providing real-time bank payments\, data and identity APIs across the UK and Europe. Learn more here.
URL:https://rustfoundation.org/event/rust-global-london-2025/
LOCATION:TrueLayer Office\, London\, 40 Finsbury Square\, London\, EC2A 1PX\, United Kingdom
CATEGORIES:Hosted Events
ATTACH;FMTTYPE=image/jpeg:https://rustfoundation.org/wp-content/uploads/2025/01/https___cdn.evbuc_.com_images_912547043_1346274400923_1_original.jpeg
ORGANIZER;CN="The Rust Foundation":MAILTO:contact@rustfoundation.org
END:VEVENT
BEGIN:VEVENT
DTSTART;TZID=UTC:20240913T090000
DTEND;TZID=UTC:20240913T150000
DTSTAMP:20260425T154106
CREATED:20240625T041233Z
LAST-MODIFIED:20240625T041715Z
UID:1442-1726218000-1726239600@rustfoundation.org
SUMMARY:RustConf 2024 "UnConf"
DESCRIPTION:The RustConf “UnConference” is back in 2024! As per tradition\, we’ll be shaking off the typical conference format and ditching the pre-planned agenda. Instead\, attendees get to decide what will be discussed together and can move freely between sessions to find ones in which they can contribute most effectively based on their interests and needs. The UnConf is intended to be by and for the Rust community. We will lean on volunteers from within the Project to run and manage the day’s activities. \nThe RustConf UnConf is open to registered attendees of RustConf 2024 while capacity remains. 
URL:https://rustfoundation.org/event/rustconf-2024-unconf/
LOCATION:St. James Theatre\, 265 Rue Saint-Jacques\, Montreal\, Quebec\, H2Y 1M6\, Canada
CATEGORIES:Hosted Events
ATTACH;FMTTYPE=image/png:https://rustfoundation.org/wp-content/uploads/2024/06/Screenshot-2024-06-24-at-1.16.35 PM.png
ORGANIZER;CN="The Rust Foundation":MAILTO:contact@rustfoundation.org
END:VEVENT
BEGIN:VEVENT
DTSTART;TZID=UTC:20240913T090000
DTEND;TZID=UTC:20240913T150000
DTSTAMP:20260425T154106
CREATED:20240625T041100Z
LAST-MODIFIED:20240625T041947Z
UID:1441-1726218000-1726239600@rustfoundation.org
SUMMARY:Rust Global at RustConf 2024
DESCRIPTION:Rust Global is a Rust Foundation-hosted half-day event taking place on Friday\, September 13. It will feature content about the professional use of Rust in global leadership settings. Rust Global is open to “Industry/Government” ticket holders while capacity remains.
URL:https://rustfoundation.org/event/rust-global-at-rustconf-2024/
LOCATION:St. James Theatre\, 265 Rue Saint-Jacques\, Montreal\, Quebec\, H2Y 1M6\, Canada
CATEGORIES:Hosted Events
ATTACH;FMTTYPE=image/png:https://rustfoundation.org/wp-content/uploads/2024/06/Screenshot-2024-06-24-at-1.19.18 PM.png
ORGANIZER;CN="The Rust Foundation":MAILTO:contact@rustfoundation.org
END:VEVENT
BEGIN:VEVENT
DTSTART;TZID=UTC:20240910T080000
DTEND;TZID=UTC:20240913T150000
DTSTAMP:20260425T154106
CREATED:20240625T040942Z
LAST-MODIFIED:20240625T041617Z
UID:1438-1725955200-1726239600@rustfoundation.org
SUMMARY:RustConf 2024
DESCRIPTION:The Rust Foundation is thrilled to host RustConf 2024 in Montreal Canada from September 10-13! RustConf is one of the most-loved annual conferences celebrating the Rust programming language and its global community. \nThe Rust Foundation will also be hosting a half-day colocated event on Friday\, September 13 dedicated to the professional use of Rust called Rust Global. To grab your spot\, register for an “Industry/Government” ticket at RustConf.
URL:https://rustfoundation.org/event/rustconf-2024/
LOCATION:St. James Theatre\, 265 Rue Saint-Jacques\, Montreal\, Quebec\, H2Y 1M6\, Canada
CATEGORIES:Hosted Events
ATTACH;FMTTYPE=image/png:https://rustfoundation.org/wp-content/uploads/2024/06/Screenshot-2024-06-24-at-1.15.50 PM.png
ORGANIZER;CN="The Rust Foundation":MAILTO:contact@rustfoundation.org
END:VEVENT
END:VCALENDAR