BEGIN:VCALENDAR
VERSION:2.0
PRODID:-//The Rust Foundation - ECPv6.15.17.1//NONSGML v1.0//EN
CALSCALE:GREGORIAN
METHOD:PUBLISH
X-ORIGINAL-URL:https://rustfoundation.org
X-WR-CALDESC:Events for The Rust Foundation
REFRESH-INTERVAL;VALUE=DURATION:PT1H
X-Robots-Tag:noindex
X-PUBLISHED-TTL:PT1H
BEGIN:VTIMEZONE
TZID:America/Los_Angeles
BEGIN:DAYLIGHT
TZOFFSETFROM:-0800
TZOFFSETTO:-0700
TZNAME:PDT
DTSTART:20250309T100000
END:DAYLIGHT
BEGIN:STANDARD
TZOFFSETFROM:-0700
TZOFFSETTO:-0800
TZNAME:PST
DTSTART:20251102T090000
END:STANDARD
BEGIN:DAYLIGHT
TZOFFSETFROM:-0800
TZOFFSETTO:-0700
TZNAME:PDT
DTSTART:20260308T100000
END:DAYLIGHT
BEGIN:STANDARD
TZOFFSETFROM:-0700
TZOFFSETTO:-0800
TZNAME:PST
DTSTART:20261101T090000
END:STANDARD
BEGIN:DAYLIGHT
TZOFFSETFROM:-0800
TZOFFSETTO:-0700
TZNAME:PDT
DTSTART:20270314T100000
END:DAYLIGHT
BEGIN:STANDARD
TZOFFSETFROM:-0700
TZOFFSETTO:-0800
TZNAME:PST
DTSTART:20271107T090000
END:STANDARD
END:VTIMEZONE
BEGIN:VEVENT
DTSTART;VALUE=DATE:20261014
DTEND;VALUE=DATE:20261018
DTSTAMP:20260423T093455
CREATED:20260422T223111Z
LAST-MODIFIED:20260423T163337Z
UID:90270-1791936000-1792281599@rustfoundation.org
SUMMARY:EuroRust 2026
DESCRIPTION:Two full conference days and two days of fun side activities\, workshops\, hackathons and exploring Barcelona. We cover all things Rust: from Rust patterns and idioms to systems programming and CLI tooling\, servers WASM\, and embedded systems.\n\n\nLocation: Barcelona\, Spain and Online\nDates: October 14-17\, 2026
URL:https://rustfoundation.org/event/eurorust-2026/
LOCATION:Barcelona\, Spain
CATEGORIES:Attending
ATTACH;FMTTYPE=image/png:https://rustfoundation.org/wp-content/uploads/2026/04/Rust-foundation-4.png
END:VEVENT
END:VCALENDAR